BEGIN:VCALENDAR
VERSION:2.0
PRODID:-//MAEC - ECPv6.8.3//NONSGML v1.0//EN
CALSCALE:GREGORIAN
METHOD:PUBLISH
X-WR-CALNAME:MAEC
X-ORIGINAL-URL:https://metzentransition.fr
X-WR-CALDESC:Évènements pour MAEC
REFRESH-INTERVAL;VALUE=DURATION:PT1H
X-Robots-Tag:noindex
X-PUBLISHED-TTL:PT1H
BEGIN:VTIMEZONE
TZID:Europe/Luxembourg
BEGIN:DAYLIGHT
TZOFFSETFROM:+0100
TZOFFSETTO:+0200
TZNAME:CEST
DTSTART:20250330T010000
END:DAYLIGHT
BEGIN:STANDARD
TZOFFSETFROM:+0200
TZOFFSETTO:+0100
TZNAME:CET
DTSTART:20251026T010000
END:STANDARD
END:VTIMEZONE
BEGIN:VEVENT
DTSTART;TZID=Europe/Luxembourg:20251024T140000
DTEND;TZID=Europe/Luxembourg:20251024T203000
DTSTAMP:20260425T211842
CREATED:20251021T080852Z
LAST-MODIFIED:20251021T080852Z
UID:13872-1761314400-1761337800@metzentransition.fr
SUMMARY:Projection des films "L'usine des animaux" et "On mange quoi ?
DESCRIPTION:Retrouvez  Le festival ALIMENTERRE | ALIMENTERRE au Quai Centre Social et culturel du Sablon vendredi 24 octobre de 14h à 20h30\, avec :\n\n\n🥘de 14h00 à 16h00 un atelier cuisine anti gaspillage alimentaire (sur inscription\, précisions sur affiche)\n\n\n📽️ projection des films “L’Usine des animaux” et “On mange quoi ?”\n\n\n🍴une dégustation\n\n\n🍲 une expo sur l’alimentation\n\n\nGratuit\n\n\nEn partenariat avec le Supermarché Coopératif Graoucoop et le Club pour l’UNESCO Jean Laurain- Metz
URL:https://metzentransition.fr/event/projection-des-films-lusine-des-animaux-et-on-mange-quoi/
LOCATION:Le Quai Centre Social et culturel du Sablon\, 1 bis rue de Castelnau\, METZ\, 57000
CATEGORIES:Alimentation,Anti-Gaspi,Atelier,Cuisine participative,Film
ATTACH;FMTTYPE=image/jpeg:https://metzentransition.fr/wp-content/uploads/2025/10/Alimenterre.jpg
END:VEVENT
END:VCALENDAR