BEGIN:VCALENDAR
VERSION:2.0
PRODID:-//MAEC - ECPv6.8.3//NONSGML v1.0//EN
CALSCALE:GREGORIAN
METHOD:PUBLISH
X-ORIGINAL-URL:https://metzentransition.fr
X-WR-CALDESC:Évènements pour MAEC
REFRESH-INTERVAL;VALUE=DURATION:PT1H
X-Robots-Tag:noindex
X-PUBLISHED-TTL:PT1H
BEGIN:VTIMEZONE
TZID:Europe/Luxembourg
BEGIN:DAYLIGHT
TZOFFSETFROM:+0100
TZOFFSETTO:+0200
TZNAME:CEST
DTSTART:20250330T010000
END:DAYLIGHT
BEGIN:STANDARD
TZOFFSETFROM:+0200
TZOFFSETTO:+0100
TZNAME:CET
DTSTART:20251026T010000
END:STANDARD
END:VTIMEZONE
BEGIN:VEVENT
DTSTART;TZID=Europe/Luxembourg:20250915T170000
DTEND;TZID=Europe/Luxembourg:20250915T190000
DTSTAMP:20260426T011323
CREATED:20250807T100413Z
LAST-MODIFIED:20250807T100527Z
UID:13571-1757955600-1757962800@metzentransition.fr
SUMMARY:Lancement du Repair Café à la MJC des Quatre Bornes !
DESCRIPTION:́ ’ ̀ . ́́ ?\n\n\nVous aimez bidouiller\, bricoler\, coudre et recoudre\, réparer plutôt que de jeter ? Novice ou expérimenté\, venez comme vous êtes : l’idée est d’apprendre à aider… et à se faire aider !\n\n\nRendez-vous le lundi 15 septembre à la MJC des 4 bornes pour une première réunion de mise en place\, découvrir le principe et lancer cette belle dynamique.\n\n\n➕ d’infos sur la genèse du projet \n\n\nhttps://www.eurometropolemetz.eu/a-la-une/une/le-repair-cafe-cherche-ses-benevoles?utm_source=facebook&utm_medium=social&utm_campaign&utm_content=ap_gn9u3uot7p&fbclid=IwY2xjawMBV5xleHRuA2FlbQIxMABicmlkETEyWGxjelA5d3VjU2w2NFRsAR4o-3C8ifqrC6QCKLDIm71-d5NPBxW0t_tjsq6UmB_TqNQa9DpycZ9ThL8QJw_aem_Jsj4pyzbXlK14Cja3UOXaA\n\n\nMJC des 4 bornes
URL:https://metzentransition.fr/event/lancement-du-repair-cafe-a-la-mjc-des-quatre-bornes/
LOCATION:MJC des 4 Bornes\, Rue Etienne Gantrel\, METZ\, 57050
CATEGORIES:Anti-Gaspi,Atelier,Repair Café
ATTACH;FMTTYPE=image/jpeg:https://metzentransition.fr/wp-content/uploads/2025/08/528618697_1079036251110206_8012777739881393446_n.jpg
END:VEVENT
END:VCALENDAR