BEGIN:VCALENDAR
VERSION:2.0
PRODID:-//MAEC - ECPv6.8.3//NONSGML v1.0//EN
CALSCALE:GREGORIAN
METHOD:PUBLISH
X-ORIGINAL-URL:https://metzentransition.fr
X-WR-CALDESC:Évènements pour MAEC
REFRESH-INTERVAL;VALUE=DURATION:PT1H
X-Robots-Tag:noindex
X-PUBLISHED-TTL:PT1H
BEGIN:VTIMEZONE
TZID:Europe/Luxembourg
BEGIN:DAYLIGHT
TZOFFSETFROM:+0100
TZOFFSETTO:+0200
TZNAME:CEST
DTSTART:20250330T010000
END:DAYLIGHT
BEGIN:STANDARD
TZOFFSETFROM:+0200
TZOFFSETTO:+0100
TZNAME:CET
DTSTART:20251026T010000
END:STANDARD
END:VTIMEZONE
BEGIN:VEVENT
DTSTART;TZID=Europe/Luxembourg:20250828T090000
DTEND;TZID=Europe/Luxembourg:20250828T150000
DTSTAMP:20260422T105446
CREATED:20250825T094901Z
LAST-MODIFIED:20250825T094901Z
UID:13613-1756371600-1756393200@metzentransition.fr
SUMMARY:Braderie du Secours Populaire de Moselle
DESCRIPTION:BRADERIE\n\n\n Jeudi 28 août 2025\nEntrepôt de la houblonnière derrière la déchetterie Metz Nord\nDes petits prix pour de grandes affaires\nPour le fonctionnement du Secours populaire de Moselle\nJouets\, livres\, vêtements\, maquillage on fouille dans la grande tradition des braderies!\nÀ chacun de venir avec un sac.\n#Secourspop #Secourspopulairefrancais\n#Secourspopulaire #SecourspopMoselle\n#SecourspopulaireMoselle #GrandDéballage\n#Solidarité #Solidaire #Ensemble\n#Bénévolat #Bénévoles
URL:https://metzentransition.fr/event/braderie-du-secours-populaire-de-moselle/
LOCATION:Secours Populaire de Moselle\, 2 rue de la houblonnière\, Metz\, 57000
CATEGORIES:Braderie,Brocante solidaire,Économie Circulaire,Événement,Friperies,Metz
END:VEVENT
END:VCALENDAR