BEGIN:VCALENDAR
VERSION:2.0
PRODID:-//MAEC - ECPv6.8.3//NONSGML v1.0//EN
CALSCALE:GREGORIAN
METHOD:PUBLISH
X-ORIGINAL-URL:https://metzentransition.fr
X-WR-CALDESC:Évènements pour MAEC
REFRESH-INTERVAL;VALUE=DURATION:PT1H
X-Robots-Tag:noindex
X-PUBLISHED-TTL:PT1H
BEGIN:VTIMEZONE
TZID:Europe/Luxembourg
BEGIN:DAYLIGHT
TZOFFSETFROM:+0100
TZOFFSETTO:+0200
TZNAME:CEST
DTSTART:20250330T010000
END:DAYLIGHT
BEGIN:STANDARD
TZOFFSETFROM:+0200
TZOFFSETTO:+0100
TZNAME:CET
DTSTART:20251026T010000
END:STANDARD
END:VTIMEZONE
BEGIN:VEVENT
DTSTART;TZID=Europe/Luxembourg:20251127T090000
DTEND;TZID=Europe/Luxembourg:20251127T110000
DTSTAMP:20260420T120412
CREATED:20251118T093351Z
LAST-MODIFIED:20251118T093351Z
UID:13952-1764234000-1764241200@metzentransition.fr
SUMMARY:Le Mois de l'Economie Sociale et Solidaire 2025 au Filon
DESCRIPTION:\, ’  ̀ ’ \n\n\nComme chaque année\, Le Mois de l’Economie Sociale et Solidaire met en avant celles et ceux qui entreprennent autrement. Associations\, entreprises\, coopératives… Chacune d’entre elles partage une même volonté : concilier activité économique\, impact social et engagement local.\n\n\n \n\n\n À cette occasion\, Le Filon Moselle vous convie le 27 novembre pour un petit-déjeuner du Carrefour des Entrepreneurs dans nos locaux à Metz à 8h30. Organisée avec Alexis Grand Est cette matinée permettra de découvrir comment entreprendre différemment en #ESS en Moselle\n\n\n Inscription : Evénement ESS au Filon
URL:https://metzentransition.fr/event/le-mois-de-leconomie-sociale-et-solidaire-2025-au-filon/
LOCATION:Le Filon Moselle\, 130 place du Forum\, Metz\, 57000\, France
CATEGORIES:Entreprenariat,ESS,Événement
ATTACH;FMTTYPE=image/jpeg:https://metzentransition.fr/wp-content/uploads/2025/11/580560221_829826642999867_1013747202168856697_n.jpg
END:VEVENT
BEGIN:VEVENT
DTSTART;TZID=Europe/Luxembourg:20251129T100000
DTEND;TZID=Europe/Luxembourg:20251129T173000
DTSTAMP:20260420T120412
CREATED:20251123T111536Z
LAST-MODIFIED:20251123T111536Z
UID:14009-1764410400-1764437400@metzentransition.fr
SUMMARY:Portes Ouverte au Supermarché Coopératif GRAOUCOOP
DESCRIPTION:é    Supermarché Coopératif Graoucoop : Venez découvrir le supermarché et faire vos courses de 10h à 17h30 !\n à   à .\n\n\nPour plus d’informations\, poser toutes vos questions : Réunions d’accueil à 11h\, 14h et 16h.\n\n\nA partir de 11h\, venez déguster et voter pour les soupes des participant·es au concours de soupes !\n\n\nDans la matinée\, venez rencontrer Metz Pôle Services \, association d’insertion professionnelle (notamment par le maraîchage) et un de nos fournisseurs en fruits et légumes bio et locaux
URL:https://metzentransition.fr/event/portes-ouverte-au-supermarche-cooperatif-graoucoop/
LOCATION:Supermarché Coopératif Graoucoop\, 124 rue André Malraux\, METZ\, 57000\, France
CATEGORIES:Alimentation,ESS,Portes ouvertes
ATTACH;FMTTYPE=image/png:https://metzentransition.fr/wp-content/uploads/2025/11/PO-29112025-Evenement-Facebook.png
END:VEVENT
END:VCALENDAR