BEGIN:VCALENDAR
VERSION:2.0
PRODID:-//MAEC - ECPv6.8.3//NONSGML v1.0//EN
CALSCALE:GREGORIAN
METHOD:PUBLISH
X-WR-CALNAME:MAEC
X-ORIGINAL-URL:https://metzentransition.fr
X-WR-CALDESC:Évènements pour MAEC
REFRESH-INTERVAL;VALUE=DURATION:PT1H
X-Robots-Tag:noindex
X-PUBLISHED-TTL:PT1H
BEGIN:VTIMEZONE
TZID:Europe/Luxembourg
BEGIN:DAYLIGHT
TZOFFSETFROM:+0100
TZOFFSETTO:+0200
TZNAME:CEST
DTSTART:20240331T010000
END:DAYLIGHT
BEGIN:STANDARD
TZOFFSETFROM:+0200
TZOFFSETTO:+0100
TZNAME:CET
DTSTART:20241027T010000
END:STANDARD
END:VTIMEZONE
BEGIN:VEVENT
DTSTART;TZID=Europe/Luxembourg:20240316T090000
DTEND;TZID=Europe/Luxembourg:20240316T120000
DTSTAMP:20260422T230434
CREATED:20240311T110705Z
LAST-MODIFIED:20240311T110722Z
UID:11995-1710579600-1710590400@metzentransition.fr
SUMMARY:Atelier découverte de la greffe fruitière
DESCRIPTION:La Ville de Metz\, en partenariat avec l’association des Croqueurs de Pommes de Lorraine\, organise un atelier d’initiation au greffage de fruitiers le samedi 16 mars de 9h à 12h dans les Jardins JM PELT. \nCet atelier est ouvert au grand public\, dans la limites des places disponibles. \nC’est pourquoi\, une inscription au préalable est nécessaire auprès du Pôle parcs\, jardins et espaces naturels de la Ville – au 03 87 55 54 00 avant le 13 mars. \nA cette occasion\, l’association des Croqueurs de Pommes présentera des techniques de greffage et proposera également à la vente des porte-greffes et des livres sur les arbres fruitiers.
URL:https://metzentransition.fr/event/atelier-decouverte-de-la-greffe-fruitiere/
LOCATION:Jardins Jean-Marie Pelt (Parc de la Seille)\, Jardins Jean-Marie Pelt\, Metz
CATEGORIES:Atelier,Jardinage
ATTACH;FMTTYPE=image/jpeg:https://metzentransition.fr/wp-content/uploads/2024/03/atelier-greffe-fruitiere-16.03.jpeg
END:VEVENT
END:VCALENDAR