BEGIN:VCALENDAR
VERSION:2.0
PRODID:-//MAEC - ECPv6.8.3//NONSGML v1.0//EN
CALSCALE:GREGORIAN
METHOD:PUBLISH
X-ORIGINAL-URL:https://metzentransition.fr
X-WR-CALDESC:Évènements pour MAEC
REFRESH-INTERVAL;VALUE=DURATION:PT1H
X-Robots-Tag:noindex
X-PUBLISHED-TTL:PT1H
BEGIN:VTIMEZONE
TZID:Europe/Luxembourg
BEGIN:DAYLIGHT
TZOFFSETFROM:+0100
TZOFFSETTO:+0200
TZNAME:CEST
DTSTART:20250330T010000
END:DAYLIGHT
BEGIN:STANDARD
TZOFFSETFROM:+0200
TZOFFSETTO:+0100
TZNAME:CET
DTSTART:20251026T010000
END:STANDARD
END:VTIMEZONE
BEGIN:VEVENT
DTSTART;TZID=Europe/Luxembourg:20250521T100000
DTEND;TZID=Europe/Luxembourg:20250521T120000
DTSTAMP:20260420T105942
CREATED:20250512T085039Z
LAST-MODIFIED:20250512T090046Z
UID:13392-1747821600-1747828800@metzentransition.fr
SUMMARY:AVAXI : rituel de plantation de maïs
DESCRIPTION:AVAXI : rituel de plantation de maïs avec des représentants du peuple autochtone Guarani Mbya de la Tekoa Kalipety. \nRendez-vous au Jardin Botanique de Metz – mercredi 21 mai à 10h. \nDans le cadre de la saison Brésil-France 2025\, Passages Transfestival et le Festival d’Automne s’associent à la Casa do Povo\, invitée d’honneur de leurs festivals respectifs pour accueillir un acte militant du peuple indigène GUARANI MBYA : la plantation de maïs créole\, patrimoine sacré pour cette communauté de la Tekoa Kalipety. \n+ d’informations : https://www.passages-transfestival.fr/spectacle/avaxi/
URL:https://metzentransition.fr/event/13392/
LOCATION:Jardin botanique de Metz\, 27 Rue de Pont-à-Mousson\, Montigny-lès-Metz\, 57950
CATEGORIES:Actions militantes,Alimentation,Jardinage,Metz
ATTACH;FMTTYPE=image/jpeg:https://metzentransition.fr/wp-content/uploads/2025/05/differents-types-plantations-mais-mettant-valeur-diversite-methodes-innovantes-ai-generative_262708-11431.jpg
ORGANIZER;CN="Passages Transfestival":MAILTO:billetterie@passages-transfestival.fr
END:VEVENT
BEGIN:VEVENT
DTSTART;TZID=Europe/Luxembourg:20250522T180000
DTEND;TZID=Europe/Luxembourg:20250522T210000
DTSTAMP:20260420T105942
CREATED:20250505T132624Z
LAST-MODIFIED:20250505T133004Z
UID:13355-1747936800-1747947600@metzentransition.fr
SUMMARY:Apéro champêtre Les Bornes Vertes
DESCRIPTION:Venez passer un moment gourmand et convivial au cœur du verger ! Chacun apporte un plat\, une boisson ou un sourire\, et on partage tout sous les arbres. Petits et grands sont les bienvenus pour profiter de cet apéro champêtre.\nAu programme :\nJeux en boisLecture NatureDécouverte du verger et de ses fruitiersjeux de connaissanceApéro partagé\n Pensez à ramener votre couverture\, vos eco-cup\, et surtout votre bonne humeur !!!\n Sous conditions météorologiques.\n\n\n\n\n\n\nÉvènement de l’association Les Bornes Vertes
URL:https://metzentransition.fr/event/apero-champetre-les-bornes-vertes/
LOCATION:Rue de l’Abbé Faller\, 57050 Metz\, France\, Rue de l'Abbé Faller\, Metz\, 57050
CATEGORIES:Apéro,Jardinage,Lecture
ATTACH;FMTTYPE=image/jpeg:https://metzentransition.fr/wp-content/uploads/2025/05/495654993_996730289283941_5322033022219912256_n.jpg
END:VEVENT
END:VCALENDAR