BEGIN:VCALENDAR
VERSION:2.0
PRODID:-//MAEC - ECPv6.8.3//NONSGML v1.0//EN
CALSCALE:GREGORIAN
METHOD:PUBLISH
X-ORIGINAL-URL:https://metzentransition.fr
X-WR-CALDESC:Évènements pour MAEC
REFRESH-INTERVAL;VALUE=DURATION:PT1H
X-Robots-Tag:noindex
X-PUBLISHED-TTL:PT1H
BEGIN:VTIMEZONE
TZID:Europe/Luxembourg
BEGIN:DAYLIGHT
TZOFFSETFROM:+0100
TZOFFSETTO:+0200
TZNAME:CEST
DTSTART:20240331T010000
END:DAYLIGHT
BEGIN:STANDARD
TZOFFSETFROM:+0200
TZOFFSETTO:+0100
TZNAME:CET
DTSTART:20241027T010000
END:STANDARD
END:VTIMEZONE
BEGIN:VEVENT
DTSTART;TZID=Europe/Luxembourg:20241012T140000
DTEND;TZID=Europe/Luxembourg:20241012T170000
DTSTAMP:20260421T014550
CREATED:20240930T083518Z
LAST-MODIFIED:20240930T083518Z
UID:12862-1728741600-1728752400@metzentransition.fr
SUMMARY:Fête de l'écologie et de Jard'In Metz
DESCRIPTION:La Ville de Metz vous offre un arbre ! \n\n\nParticipez à la végétalisation de la Ville de Metz et luttez contre le changement climatique en récupérant un arbre lors de la ̂  ‘́ et de ‘   le    ̀ ‘\, à côté de la salle de l’Arsenal\, de 10h à 17h.\n\n\nPar cette initiative\, la Ville de Metz souhaite poursuivre le développement du couvert végétal sur son territoire et permettre aux particuliers qui disposent d’une maison avec jardin\, voire un balcon ou une terrasse\, de bénéficier gratuitement d’un jeune arbre\n\n\n          (sous réserve de stocks disponibles)    .\nC’est parti  https://metz.pulse.ly/ibviir6hch
URL:https://metzentransition.fr/event/fete-de-lecologie-et-de-jardin-metz/
LOCATION:jardin de l’esplanade\, 57000 Metz\, Metz\, 57000
CATEGORIES:Artisans locaux,Education à l'environnement,Événement,Fête,Jardinage,Metz,Nature,Plantes,Producteurs locaux
ATTACH;FMTTYPE=image/jpeg:https://metzentransition.fr/wp-content/uploads/2024/09/461649432_850412073972626_2675121749423237372_n.jpg
END:VEVENT
END:VCALENDAR