BEGIN:VCALENDAR
VERSION:2.0
PRODID:-//MAEC - ECPv6.8.3//NONSGML v1.0//EN
CALSCALE:GREGORIAN
METHOD:PUBLISH
X-ORIGINAL-URL:https://metzentransition.fr
X-WR-CALDESC:Évènements pour MAEC
REFRESH-INTERVAL;VALUE=DURATION:PT1H
X-Robots-Tag:noindex
X-PUBLISHED-TTL:PT1H
BEGIN:VTIMEZONE
TZID:Europe/Luxembourg
BEGIN:DAYLIGHT
TZOFFSETFROM:+0100
TZOFFSETTO:+0200
TZNAME:CEST
DTSTART:20250330T010000
END:DAYLIGHT
BEGIN:STANDARD
TZOFFSETFROM:+0200
TZOFFSETTO:+0100
TZNAME:CET
DTSTART:20251026T010000
END:STANDARD
END:VTIMEZONE
BEGIN:VEVENT
DTSTART;TZID=Europe/Luxembourg:20251129T160000
DTEND;TZID=Europe/Luxembourg:20251129T220000
DTSTAMP:20260420T010433
CREATED:20251028T115414Z
LAST-MODIFIED:20251028T115414Z
UID:13888-1764432000-1764453600@metzentransition.fr
SUMMARY:Festival de Permaculture de l'association Permaculture Trois Frontières Brin de Paille
DESCRIPTION:Permaculture Trois Frontières – Brin de Paille présente sa troisième édition du festival de Permaculture. \nCette fois\, vous découvrirez Kévin SIMON un jeune cinéaste de la Drôme\, plein de talents et de sensibilité. \n\n\nDate à retenir le 29 novembre 2025 au Cinéma La Scala de Thionville. \n\n\nL’entrée du Cinéma est de 4\,8 ou 12 euros selon que vous veniez dès 16h\, 17h30 ou jusqu’au soir. \n\n\nBuffet offert par Permaculture Trois Frontières – Brin de Paille.
URL:https://metzentransition.fr/event/festival-de-permaculture-de-lassociation-permaculture-trois-frontieres-brin-de-paille/
LOCATION:Cinéma La Scala\, 63 boulevard Foch\, Thionville\, 57100\, France
CATEGORIES:Ciné-débat,Dégustation,Festival,Film,Jardinage
ATTACH;FMTTYPE=image/png:https://metzentransition.fr/wp-content/uploads/2025/10/Festival-Permaculture.png
ORGANIZER;CN="Permaculture Trois Fronti%C3%A8res - Brin de Paille":MAILTO:perma3f@gmail.com
END:VEVENT
END:VCALENDAR