BEGIN:VCALENDAR
VERSION:2.0
PRODID:-//MAEC - ECPv6.8.3//NONSGML v1.0//EN
CALSCALE:GREGORIAN
METHOD:PUBLISH
X-ORIGINAL-URL:https://metzentransition.fr
X-WR-CALDESC:Évènements pour MAEC
REFRESH-INTERVAL;VALUE=DURATION:PT1H
X-Robots-Tag:noindex
X-PUBLISHED-TTL:PT1H
BEGIN:VTIMEZONE
TZID:Europe/Luxembourg
BEGIN:DAYLIGHT
TZOFFSETFROM:+0100
TZOFFSETTO:+0200
TZNAME:CEST
DTSTART:20220327T010000
END:DAYLIGHT
BEGIN:STANDARD
TZOFFSETFROM:+0200
TZOFFSETTO:+0100
TZNAME:CET
DTSTART:20221030T010000
END:STANDARD
END:VTIMEZONE
BEGIN:VEVENT
DTSTART;TZID=Europe/Luxembourg:20221126T140000
DTEND;TZID=Europe/Luxembourg:20221126T140000
DTSTAMP:20260425T012835
CREATED:20221108T090507Z
LAST-MODIFIED:20221108T090507Z
UID:8217-1669471200-1669471200@metzentransition.fr
SUMMARY:Manifestation contre les violences sexistes et sexuelles
DESCRIPTION:Retrouvez nombreu•x•ses le 26/11 pour exprimer ensemble notre colère contre les violences faites aux femmes\, enfants et aux minorités de genre\, ttes les V.S.S. et l’injustice de cette société cishétéropatriarcale ; pour parler de nos combats et montrer que nous luttons et lutterons ! À vos pancartes\, votre rage\, vos voix….
URL:https://metzentransition.fr/event/manifestation-contre-les-violences-sexistes-et-sexuelles/
LOCATION:Devant la gare de Metz\, Place du Général de Gaulle\, Metz\, 57000\, France
CATEGORIES:Manifestation
ATTACH;FMTTYPE=image/jpeg:https://metzentransition.fr/wp-content/uploads/2022/11/22.-violences-sexistes.jpg
END:VEVENT
END:VCALENDAR