BEGIN:VCALENDAR
VERSION:2.0
PRODID:-//MAEC - ECPv6.8.3//NONSGML v1.0//EN
CALSCALE:GREGORIAN
METHOD:PUBLISH
X-ORIGINAL-URL:https://metzentransition.fr
X-WR-CALDESC:Évènements pour MAEC
REFRESH-INTERVAL;VALUE=DURATION:PT1H
X-Robots-Tag:noindex
X-PUBLISHED-TTL:PT1H
BEGIN:VTIMEZONE
TZID:Europe/Luxembourg
BEGIN:DAYLIGHT
TZOFFSETFROM:+0100
TZOFFSETTO:+0200
TZNAME:CEST
DTSTART:20260329T010000
END:DAYLIGHT
BEGIN:STANDARD
TZOFFSETFROM:+0200
TZOFFSETTO:+0100
TZNAME:CET
DTSTART:20261025T010000
END:STANDARD
END:VTIMEZONE
BEGIN:VEVENT
DTSTART;TZID=Europe/Luxembourg:20260510T093000
DTEND;TZID=Europe/Luxembourg:20260510T180000
DTSTAMP:20260421T023107
CREATED:20260420T201647Z
LAST-MODIFIED:20260420T201720Z
UID:14204-1778405400-1778436000@metzentransition.fr
SUMMARY:Fête du printemps
DESCRIPTION:Marché de producteurs \nVillage associatif et artisanal
URL:https://metzentransition.fr/event/fete-du-printemps/
LOCATION:Halle des Fenottes\, Ancy-Dornot\, Ancy-Dornot\, 57130
CATEGORIES:Alimentation,Artisans locaux,Producteurs locaux,Transition Écologique
ATTACH;FMTTYPE=image/jpeg:https://metzentransition.fr/wp-content/uploads/2026/04/fete-du-printemps.jpg
END:VEVENT
END:VCALENDAR