BEGIN:VCALENDAR
VERSION:2.0
PRODID:-//MAEC - ECPv6.8.3//NONSGML v1.0//EN
CALSCALE:GREGORIAN
METHOD:PUBLISH
X-ORIGINAL-URL:https://metzentransition.fr
X-WR-CALDESC:Évènements pour MAEC
REFRESH-INTERVAL;VALUE=DURATION:PT1H
X-Robots-Tag:noindex
X-PUBLISHED-TTL:PT1H
BEGIN:VTIMEZONE
TZID:Europe/Luxembourg
BEGIN:DAYLIGHT
TZOFFSETFROM:+0100
TZOFFSETTO:+0200
TZNAME:CEST
DTSTART:20250330T010000
END:DAYLIGHT
BEGIN:STANDARD
TZOFFSETFROM:+0200
TZOFFSETTO:+0100
TZNAME:CET
DTSTART:20251026T010000
END:STANDARD
END:VTIMEZONE
BEGIN:VEVENT
DTSTART;TZID=Europe/Luxembourg:20250528T140000
DTEND;TZID=Europe/Luxembourg:20250528T180000
DTSTAMP:20260421T090236
CREATED:20250526T093524Z
LAST-MODIFIED:20250526T093524Z
UID:13424-1748440800-1748455200@metzentransition.fr
SUMMARY:Rue aux enfants pour tous !
DESCRIPTION:\,     \nUne rue sans voiture\, c’est une rue qui respire et qui s’anime ! Le 28 mai\, petits et grands pourront s’approprier l’espace public en toute sécurité : jeux\, rires et rencontres remplaceront le bruit des moteurs. \nHabitants du quartier ou d’ailleurs\, venez profiter de cette parenthèse conviviale où la rue devient un véritable lieu de vie et de partage. \nAu programme :\n14h : Inauguration\n15h : Spectacle de danse\n15h30 et 16h30 : Balade à vélo (inscription obligatoire sur https://lnkd.in/e_4ebq7D\n16h : Goûter partagé \n Et tout au long de l’après-midi : tennis ballon\, structures gonflables\, escape game\, escrime\, boccia\, atelier réparation vélo… De quoi s’amuser\, apprendre et partager. \n Rue Pavillon Champ\, quartier de la Grange-aux-Bois\n Gratuit\n  ́ ̀     ̀     \n️   :\nEn kilomètres\, la distance de la balade à vélo réservée aux enfants entre 8 à 12 ans en capacité de rouler.
URL:https://metzentransition.fr/event/rue-aux-enfants-pour-tous/
LOCATION:Rue du Pavillon Champ\, 57070 Metz\, Rue du Pavillon Champ\, Metz\, 57070
CATEGORIES:escape game,Fête,Vélo
ATTACH;FMTTYPE=image/jpeg:https://metzentransition.fr/wp-content/uploads/2025/05/1748080805716.jpg
END:VEVENT
END:VCALENDAR