BEGIN:VCALENDAR
VERSION:2.0
PRODID:-//MAEC - ECPv6.8.3//NONSGML v1.0//EN
CALSCALE:GREGORIAN
METHOD:PUBLISH
X-ORIGINAL-URL:https://metzentransition.fr
X-WR-CALDESC:Évènements pour MAEC
REFRESH-INTERVAL;VALUE=DURATION:PT1H
X-Robots-Tag:noindex
X-PUBLISHED-TTL:PT1H
BEGIN:VTIMEZONE
TZID:Europe/Luxembourg
BEGIN:DAYLIGHT
TZOFFSETFROM:+0100
TZOFFSETTO:+0200
TZNAME:CEST
DTSTART:20250330T010000
END:DAYLIGHT
BEGIN:STANDARD
TZOFFSETFROM:+0200
TZOFFSETTO:+0100
TZNAME:CET
DTSTART:20251026T010000
END:STANDARD
END:VTIMEZONE
BEGIN:VEVENT
DTSTART;TZID=Europe/Luxembourg:20251001T140000
DTEND;TZID=Europe/Luxembourg:20251001T170000
DTSTAMP:20260421T012747
CREATED:20250923T163130Z
LAST-MODIFIED:20250923T163130Z
UID:13792-1759327200-1759338000@metzentransition.fr
SUMMARY:Sortez vos vélos et trottinettes !
DESCRIPTION:Sortez vos vélos et trottinettes !\nLe Centre Social ACS Agora organise\, avec ses partenaires\, une après midi 2 ROUES dans le quartier Metz Nord !\nrdv mercredi 1er octobre à partir de 14h pour une demie journée autour du 2 Roues !\nmerci : Wimoov\, Metz à Vélo\, La Dragonne Metz\, Atelier 17.91\, afev metz\, Apsis Emergence\, recyclerie du sport\, Police Nationale et Police Municipale.\n\n\nAu delà des ateliers\, l’association Metz à Vélo vous propose une balade : départ du village associatif à 15h !\n\n\nOn se retrouve bientôt
URL:https://metzentransition.fr/event/sortez-vos-velos-et-trottinettes/
CATEGORIES:Balade,Recyclerie,Repair Café,Vélo,Vente
ATTACH;FMTTYPE=image/jpeg:https://metzentransition.fr/wp-content/uploads/2025/09/553734087_774797351927776_7270603023866847635_n-1.jpg
END:VEVENT
END:VCALENDAR