BEGIN:VCALENDAR
VERSION:2.0
PRODID:-//MAEC - ECPv6.8.3//NONSGML v1.0//EN
CALSCALE:GREGORIAN
METHOD:PUBLISH
X-WR-CALNAME:MAEC
X-ORIGINAL-URL:https://metzentransition.fr
X-WR-CALDESC:Évènements pour MAEC
REFRESH-INTERVAL;VALUE=DURATION:PT1H
X-Robots-Tag:noindex
X-PUBLISHED-TTL:PT1H
BEGIN:VTIMEZONE
TZID:Europe/Luxembourg
BEGIN:DAYLIGHT
TZOFFSETFROM:+0100
TZOFFSETTO:+0200
TZNAME:CEST
DTSTART:20250330T010000
END:DAYLIGHT
BEGIN:STANDARD
TZOFFSETFROM:+0200
TZOFFSETTO:+0100
TZNAME:CET
DTSTART:20251026T010000
END:STANDARD
END:VTIMEZONE
BEGIN:VEVENT
DTSTART;TZID=Europe/Luxembourg:20251108T090000
DTEND;TZID=Europe/Luxembourg:20251108T160000
DTSTAMP:20260420T160920
CREATED:20250916T092401Z
LAST-MODIFIED:20250916T092401Z
UID:13756-1762592400-1762617600@metzentransition.fr
SUMMARY:SLOW FASHION MARKET
DESCRIPTION:SLOW FASHION MARKET – SAMEDI 8 NOVEMBRE \nVenez découvrir une mode éthique\, durable et pleine de sens à la MJC Metz Sud ! \nAu programme :\n Vide-dressing géant : vêtements pour femmes\, hommes et enfants\, accessoires\, chaussures et mercerie.\n Marché artisanal : vannerie\, coutures\, broderies\, et déco biscuits maison.\n Consommez slow : achetez en seconde main\, vendez ou donnez vos vêtements.\nInfos pratiques :\n Samedi 8 novembre\n De 9h00 à 16h00\n MJC Metz Sud – 87 rue du XXème corps américain\, Metz\nUn événement pour allier mode\, écologie et convivialité ! On compte sur vous pour faire de cette journée un succès.
URL:https://metzentransition.fr/event/slow-fashion-market/
LOCATION:MJC Metz Sud\, 87\, Rue du XXème Corps Américain\, Metz
CATEGORIES:Artisans locaux,Marché,Vide Dressing
ATTACH;FMTTYPE=image/jpeg:https://metzentransition.fr/wp-content/uploads/2025/09/549054313_1362442322555239_9166700195108692928_n.jpg
ORGANIZER;CN="MJC Metz Sud":MAILTO:contact@mjc-metz-sud.org
END:VEVENT
END:VCALENDAR