BEGIN:VCALENDAR
VERSION:2.0
PRODID:-//MAEC - ECPv6.8.3//NONSGML v1.0//EN
CALSCALE:GREGORIAN
METHOD:PUBLISH
X-WR-CALNAME:MAEC
X-ORIGINAL-URL:https://metzentransition.fr
X-WR-CALDESC:Évènements pour MAEC
REFRESH-INTERVAL;VALUE=DURATION:PT1H
X-Robots-Tag:noindex
X-PUBLISHED-TTL:PT1H
BEGIN:VTIMEZONE
TZID:Europe/Luxembourg
BEGIN:DAYLIGHT
TZOFFSETFROM:+0100
TZOFFSETTO:+0200
TZNAME:CEST
DTSTART:20250330T010000
END:DAYLIGHT
BEGIN:STANDARD
TZOFFSETFROM:+0200
TZOFFSETTO:+0100
TZNAME:CET
DTSTART:20251026T010000
END:STANDARD
END:VTIMEZONE
BEGIN:VEVENT
DTSTART;TZID=Europe/Luxembourg:20251127T093000
DTEND;TZID=Europe/Luxembourg:20251127T110000
DTSTAMP:20260423T015448
CREATED:20251124T182850Z
LAST-MODIFIED:20251124T182850Z
UID:14036-1764235800-1764241200@metzentransition.fr
SUMMARY:Couches lavables
DESCRIPTION:COUCHES LAVABLES\n\n\nEt si on essayait les Couches Lavables ? Economiques\, écologiques\, ok mais encore ? Toutes les explications et une couche offerte !\nRDV ce jeudi 27 novembre au Le Brico Borne – MJC des 4 Bornes\,  Sur inscription auprès de la 5ème Borne au 07.81.79.24.52
URL:https://metzentransition.fr/event/couches-lavables/
LOCATION:Brico-Borne\, 6 - 8 rue du Général Morlot\, Woippy\, 57050
CATEGORIES:Atelier,Enfance,Nettoyage,Zéro déchets
ATTACH;FMTTYPE=image/jpeg:https://metzentransition.fr/wp-content/uploads/2025/11/586910802_1424483323018213_7562041950528623969_n.jpeg
END:VEVENT
END:VCALENDAR