BEGIN:VCALENDAR
VERSION:2.0
PRODID:-//MAEC - ECPv6.8.3//NONSGML v1.0//EN
CALSCALE:GREGORIAN
METHOD:PUBLISH
X-ORIGINAL-URL:https://metzentransition.fr
X-WR-CALDESC:Évènements pour MAEC
REFRESH-INTERVAL;VALUE=DURATION:PT1H
X-Robots-Tag:noindex
X-PUBLISHED-TTL:PT1H
BEGIN:VTIMEZONE
TZID:Europe/Luxembourg
BEGIN:DAYLIGHT
TZOFFSETFROM:+0100
TZOFFSETTO:+0200
TZNAME:CEST
DTSTART:20250330T010000
END:DAYLIGHT
BEGIN:STANDARD
TZOFFSETFROM:+0200
TZOFFSETTO:+0100
TZNAME:CET
DTSTART:20251026T010000
END:STANDARD
END:VTIMEZONE
BEGIN:VEVENT
DTSTART;TZID=Europe/Luxembourg:20251202T083000
DTEND;TZID=Europe/Luxembourg:20251202T100000
DTSTAMP:20260420T110220
CREATED:20251119T103819Z
LAST-MODIFIED:20251119T103819Z
UID:13984-1764664200-1764669600@metzentransition.fr
SUMMARY:Giving Tuesday
DESCRIPTION:✨ Et si on commençait décembre par un geste solidaire ? Rejoignez-nous pour le Giving Tuesday\, grande journée mondiale de la générosité et de l’engagement social\, le mardi 2 décembre à 8h30 au Kinepolis Saint-Julien-lès-Metz. \nAu programme : \n• Petit-déjeuner solidaire\n• Rencontre avec des associations locales inspirantes\n• Animations et échanges autour de la générosité\n• Remise officielle de la billetterie à l’orchestre Démos Metz Moselle\n• Et quelques surprises vous attendent \nInscription : Giving Tuesday – FONDS DE DOTATION TERRITORIAL MOSELLE MÉCÈNES SOLIDAIRES
URL:https://metzentransition.fr/event/giving-tuesday/
LOCATION:Kinepolis St Julien Lès Metz\, 10 Av. Paul Langevin\, Saint-Julien-lès-Metz\, 57070
CATEGORIES:Echanges,ESS,Événement,Solidarité
ATTACH;FMTTYPE=image/png:https://metzentransition.fr/wp-content/uploads/2025/11/unnamed.png
ORGANIZER;CN="Moselle M%C3%A9c%C3%A8nes Solidaires":MAILTO:admin@moselle-mecenes-solidaires.fr
END:VEVENT
BEGIN:VEVENT
DTSTART;TZID=Europe/Luxembourg:20251202T100000
DTEND;TZID=Europe/Luxembourg:20251202T170000
DTSTAMP:20260420T110220
CREATED:20251120T173928Z
LAST-MODIFIED:20251120T173928Z
UID:14003-1764669600-1764694800@metzentransition.fr
SUMMARY:Formation IA au Centre européen Robert Schuman
DESCRIPTION:Le CERS organise le 2 décembre prochain une formation gratuite sur « l’IA : éthique\, atouts et dangers » à la Maison Robert Schuman
URL:https://metzentransition.fr/event/formation-ia-au-centre-europeen-robert-schuman/
LOCATION:Centre européen Robert Schuman – CERS\, 2\, rue Robert Schuman\, Scy-Chazelles\, 57160\, France
CATEGORIES:Formation,IA
ATTACH;FMTTYPE=image/png:https://metzentransition.fr/wp-content/uploads/2025/11/Formation-IA-CERS-Deecembre-2025.png
END:VEVENT
BEGIN:VEVENT
DTSTART;TZID=Europe/Luxembourg:20251205T170000
DTEND;TZID=Europe/Luxembourg:20251205T183000
DTSTAMP:20260420T110220
CREATED:20251128T094845Z
LAST-MODIFIED:20251128T094845Z
UID:14061-1764954000-1764959400@metzentransition.fr
SUMMARY:Atelier emballage cadeaux
DESCRIPTION:Rejoignez nos amis de Zéro Déchet Metz pour un atelier emballage cadeaux \nOpération zéro déchet au Quai Centre Social et culturel du Sablon\, vous êtes les bienvenus
URL:https://metzentransition.fr/event/atelier-emballage-cadeaux/
LOCATION:Le Quai Centre Social et culturel du Sablon\, 1 bis rue de Castelnau\, METZ\, 57000
CATEGORIES:Anti-Gaspi,Atelier,Zéro déchets
ATTACH;FMTTYPE=image/jpeg:https://metzentransition.fr/wp-content/uploads/2025/11/Zero-Dechet.jpeg
END:VEVENT
BEGIN:VEVENT
DTSTART;TZID=Europe/Luxembourg:20251209T190000
DTEND;TZID=Europe/Luxembourg:20251209T203000
DTSTAMP:20260420T110220
CREATED:20251204T101139Z
LAST-MODIFIED:20251204T101139Z
UID:14101-1765306800-1765312200@metzentransition.fr
SUMMARY:Réunion mensuelle Zéro déchets Metz
DESCRIPTION:La prochaine réunion mensuelle de l’association Zéro Déchet Metz se tiendra mardi 09 décembre à 19h00 au Quai Centre Social et culturel du Sablon.
URL:https://metzentransition.fr/event/reunion-mensuelle-zero-dechets-metz/
LOCATION:Le Quai Centre Social et culturel du Sablon\, 1 bis rue de Castelnau\, METZ\, 57000
ATTACH;FMTTYPE=image/jpeg:https://metzentransition.fr/wp-content/uploads/2025/12/capture-decran-4-12-2025-11147-www-instagram-com--e1764843078207.jpeg
END:VEVENT
BEGIN:VEVENT
DTSTART;TZID=Europe/Luxembourg:20251210T180000
DTEND;TZID=Europe/Luxembourg:20251210T210000
DTSTAMP:20260420T110220
CREATED:20251129T104101Z
LAST-MODIFIED:20251129T104101Z
UID:14077-1765389600-1765400400@metzentransition.fr
SUMMARY:
DESCRIPTION:Prochain atelier Laudato Si’ à Caritas Moselle ! \n\n\n“Petits gâteaux de Noël en compagnie de Sainte Hildegarde” \n\n\n Atelier cuisine\n Repas partagé (auberge espagnole)\n Temps spirituel\n\n\n Mercredi 10 décembre\n 18h00 – 21h00\n Caritas Moselle – 6A Bd Paixhans\, Metz\n\n\n Ouvert à tous\, sur inscription !\n Infos & inscriptions : 07 68 73 58 56\n\n\nNe manquez pas ce moment fraternel et gourmand !
URL:https://metzentransition.fr/event/14077/
LOCATION:Caritas Moselle\, 6 A boulevard Paixhans\, METZ\, 57000
CATEGORIES:Atelier,Cuisine participative
ATTACH;FMTTYPE=image/png:https://metzentransition.fr/wp-content/uploads/2025/11/sans-titre-publication-facebook.png
ORGANIZER;CN="Eglise Verte Moselle":MAILTO:referentecologie@catholique-metz.fr
END:VEVENT
BEGIN:VEVENT
DTSTART;TZID=Europe/Luxembourg:20251212T190000
DTEND;TZID=Europe/Luxembourg:20251212T201500
DTSTAMP:20260420T110220
CREATED:20251029T085003Z
LAST-MODIFIED:20251029T085003Z
UID:13893-1765566000-1765570500@metzentransition.fr
SUMMARY:Premier Talk – Agora Metz\, l’aventure est lancée !
DESCRIPTION:📅 Jeudi 12 décembre\n📍 Cinéma Klub – 5 rue Fabert\, Metz\n🕠 Ouverture des portes à 18h30\nTalk de 19h à 20h15\n🎤 Les noms des quatre invités seront révélés très prochainement…\nUn échange engagé et inspirant réunissant quatre invités aux parcours complémentaires\, pour aborder les grands défis environnementaux de notre temps et réfléchir à des moyens d’action concrets pour préserver la planète\, le tout illustré par des images.💡\n💛 Une quête solidaire sera organisée au profit d’une association choisie en commun par les intervenants\, afin de prolonger l’engagement au-delà du débat.\n👉 Suivez Agora Metz pour ne rien manquer de cette soirée placée sous le signe de la réflexion\, de la sensibilisation et de l’action\, et bloquez déjà votre 12 décembre\, de 18h30 à 20h15\, pour le passer avec nous ! ✨\nDe Yanis Ristagno et avec Matthieu Allely
URL:https://metzentransition.fr/event/premier-talk-agora-metz-laventure-est-lancee/
LOCATION:Cinéma Klub\, 5 - 7 rue Fabert\, Metz\, 57000
CATEGORIES:Café-débat,Débat,Echanges,Événement,Forum,Inauguration,Transition Écologique
ATTACH;FMTTYPE=image/jpeg:https://metzentransition.fr/wp-content/uploads/2025/10/572632809_17860746633520576_7890012283911674704_n.jpg
ORGANIZER;CN="Agora Metz":MAILTO:yanis.rtgo@gmail.com
END:VEVENT
BEGIN:VEVENT
DTSTART;TZID=Europe/Luxembourg:20251212T190000
DTEND;TZID=Europe/Luxembourg:20251212T203000
DTSTAMP:20260420T110220
CREATED:20251111T114412Z
LAST-MODIFIED:20251111T114412Z
UID:13938-1765566000-1765571400@metzentransition.fr
SUMMARY:Nouveau visage du premier Talk Agora Metz : Frédéric Denhez
DESCRIPTION:🌍 Nouveau visage du premier Talk Agora Metz : Frédéric Denhez 🌍 \n📖 Écrivain\, journaliste et conférencier\, Frédéric Denhez explore depuis plus de trente ans les liens entre l’homme et la nature.\nJournaliste pour Marianne\, habitué des émissions C dans l’air\, C ce soir\, L’Info s’éclaire et Sens Public\, et ancien chroniqueur de France Inter\, il partage son regard éclairé sur les grands enjeux écologiques et sociétaux contemporains. \n🌊 Passionné de terrain\, il a plongé aux quatre coins du monde\, observant de près la beauté et la fragilité des écosystèmes marins. Cette expérience nourrit sa réflexion et son engagement pour une écologie lucide\, ancrée dans le réel. \n🎤 Animateur de débats et conférencier reconnu\, Frédéric Denhez nous fera l’honneur d’être présent le 12 décembre au Cinéma Klub de Metz\, pour participer au Talk :\n« Océans\, Climat et Images : comment sensibiliser et agir pour la planète ? » 💡 \n💬 Curieux\, rigoureux et profondément humaniste\, il a ce don rare d’expliquer les enjeux environnementaux avec clarté\, exigence et émotion. À travers ses interventions\, il nous invite à comprendre avant d’agir\, à débattre sans dogmatisme\, et à retrouver un lien sensible avec notre planète. \n📅 Rendez-vous le 12 décembre\, ouverture des portes à 18h30\, talk de 19h à 20h15.\nUne soirée animée par Yanis Ristagno\, fondateur d’Agora Metz et de Grandi’Ose. \n✨ Un moment d’échanges\, de réflexion et d’inspiration autour d’une question essentielle : comment\, ensemble\, redonner du souffle à notre planète ?
URL:https://metzentransition.fr/event/nouveau-visage-du-premier-talk-agora-metz-frederic-denhez/
LOCATION:Cinéma Klub\, 5 - 7 rue Fabert\, Metz\, 57000
CATEGORIES:Conférence,Débat,Echanges,Rencontre,Talk
ATTACH;FMTTYPE=image/png:https://metzentransition.fr/wp-content/uploads/2025/11/1.png
END:VEVENT
BEGIN:VEVENT
DTSTART;TZID=Europe/Luxembourg:20251213T090000
DTEND;TZID=Europe/Luxembourg:20251213T180000
DTSTAMP:20260420T110220
CREATED:20251124T181900Z
LAST-MODIFIED:20251124T183727Z
UID:14030-1765616400-1765648800@metzentransition.fr
SUMMARY:Cursus libre - Formation Mission Nature
DESCRIPTION:Lorraine Nature Environnement vous propose une formation :\n\n\n🌿 Cursus libre – Formation Mission Nature 🌿\n\n\n📌 Prochain module : « Milieu urbain »\n\n\n🗓 Nous arrivons au dernier module de formation de 2025 ! Rendez-vous le samedi 13 décembre pour découvrir le milieu urbain et ses enjeux.\n\n\n👉 Ce module\, animé par le CPN Coquelicots vous permettra de :\n\n\n– découvrir plusieurs techniques d’animation pour sensibiliser aux enjeux environnementaux en ville\,\n\n\n– favoriser la participation active du public\,\n\n\n– mettre en avant des alternatives positives pour mieux gérer nos espaces urbains.\n\n\n💶 Tarif : 45 € par module\n\n\n🔗 Inscriptions sur HelloAsso :\n\n\nhttps://www.helloasso.com/associations/lorraine-nature-environnement/evenements/fmn-module-1-introduction-a-la-formation?fbclid=IwY2xjawORftZleHRuA2FlbQIxMABicmlkETE5MXdlS09VZG4yZ1pIWmE1c3J0YwZhcHBfaWQQMjIyMDM5MTc4ODIwMDg5MgABHgXBbFXe0K8gYvuoXiWw0X5eQxeECWsofGGhHuG-ABdo1k3SkGAlfiE9ED1c_aem_8po7ev8q4vvTyh-6O6F01A\n\n\n📖 Plus d’infos sur le cursus complet :\n\n\nFormation Mission Nature | LNE\n\n\nUne question ? Contactez notre référente formation : Cassandre DAMAS\n\n\n📞 09 70 50 02 15\n\n\n✉️ biodiversite@lorrainenatureenvironnement.fr
URL:https://metzentransition.fr/event/14030/
LOCATION:Espace Naturel Pédagogique et Convivial des CPN-Coquelicots\, Rue des Pins\, Metz\, 57000\, France
CATEGORIES:Education à l'environnement,Formation,Metz
ATTACH;FMTTYPE=image/jpeg:https://metzentransition.fr/wp-content/uploads/2025/11/586286293_1259179042903119_8839930494543386702_n.jpg
ORGANIZER;CN="Lorraine Nature Environnement":MAILTO:contact@mirabel-lne.asso.fr
END:VEVENT
END:VCALENDAR